Workbook
Name S01AssetSubgroup: #REF!
Name Slicer_ASSET_COMPONENT: #N/A
Name Slicer_Asset_Component1: #N/A
Name Slicer_ASSET_GROUP: #N/A
Name Slicer_Asset_Group1: #N/A
Name Slicer_ASSET_GROUP2: #N/A
Name Slicer_Frequency: #N/A
Name TaskDescription: '6. BUDGET'!$E$19
Name TaskDescription: '5. SCHEDULE'!$D$49
Name Type: #REF!

Sheet TABLE OF CONTENTS
K3: REQUIRED | M3: Yellow cells: Input is REQUIRED
K4: RECOMMENDED | M4: Orange cells: Input is recommended, but not required
K5: (OUTPUT) | M5: Blue cells: No input required, cells will auto-populate
B10: TABLE OF CONTENTS | I10: COMMUNITY SPECIFIC DATA | O10: COMMUNITY INFRASTRUCTURE SUMMARY
B12: INPUT
A13: 1 | B13: Asset Inventory - Watermains | J13: Year | K13: 2022 | P13: TOTAL WATERMAINS | Q13: =SUM(Watermain_Inventory[LENGTH (m)])/1000 -> 10 | R13: km
A14: 2 | B14: Asset Inventory - Sanitary Mains | J14: Location Factor | K14: 1.2 | P14: TOTAL SANITARY MAINS | Q14: =IFERROR(GETPIVOTDATA("LENGTH (m)",'2. ASSET INVENTORY - SANI MAIN'!$D$4,"ASSET COMPONENT","Main")/1000,0) -> 5 | R14: km
A15: 3 | B15: Asset Inventory - Non-Linear Infrastructure | J15: O&M Wage | K15: 31 | L15: /hr | M15: Includes Wage Burden | P15: TOTAL FORCEMAINS | Q15: =IFERROR(GETPIVOTDATA("LENGTH (m)",'2. ASSET INVENTORY - SANI MAIN'!$D$4,"ASSET COMPONENT","Forcemain")/1000,0) -> 0 | R15: km
J16: Maintenance Truck | K16: =(K38+(K37*12)+(K39*K40*(52/2)))/K41 -> 16.466621 | L16: /hr | M16: Enter community rate or rate from calculation below | P16: TOTAL HYDRANTS | Q16: =K32 -> 50
J17: Maintenance Assistant | K17: 24 | L17: /hr | M17: Includes Wage Burden | P17: TOTAL VALVES | Q17: =K33 -> 120
B18: OUTPUT | J18: Main Operator Weekly Hours | K18: 25 | L18: For water and wastewater maintenance only | P18: TOTAL MANHOLES | Q18: =K34 -> 70
A19: 4 | B19: Suggested Work Order List
A20: 5 | B20: Annual Maintenance Schedule | P20: SYSTEM COMPONENT | Q20: QUANTITY
A21: 6 | B21: Annual Maintenance Budget | P21: Boost Station | Q21: 1
I22: ASSUMPTIONS | P22: Air Release Valve | Q22: 1
B24: REFERENCE DATA
A25: i. | B25: WO Data Masterlist
A26: ii. | B26: WO Maintenance Hours (For Linear Infrastructure)
A27: iii. | B27: Annual Maintenance Budget Summary
J28: Hydrants | K28: 5 | L28: /km of Watermain
J29: Valves | K29: 12 | L29: /km of Watermain
J30: Manholes | K30: 14 | L30: /km of Sanitary Main
J32: Hydrants | K32: =K28*Q13 -> 50 | L32: Assumed Total
J33: Valves | K33: =K29*Q13 -> 120 | L33: Assumed Total
J34: Manholes | K34: =K30*Q14 -> 70 | L34: Assumed Total
I36: MAINTENANCE TRUCK ASSUMPTIONS
J37: Monthly Lease | K37: 800
J38: Annual Insurance | K38: 2500
J39: Gas Price | K39: 1.98
J40: Tank Size | K40: 136 | L40: l
J41: Annual Working Hours | K41: 1160 | L41: hrs
J42: Maintenance Truck Hourly Rate | K42: =((K37*12)+K38+(K39*K40*26))/K41 -> 16.466621 | L42: Enter in "Maintenance Truck" above

Sheet 1.ASSET INVENTORY - WATERMAINS
F2: Return to Table of Contents
A7: INFRASTRUCTURE ASSETS
A8: ASSET INVENTORY - WATERMAINS
A11: NATION ASSET CODE | B11: ICMS ASSET CODE | C11: LOCATION DESCRIPTION | D11: Notes | E11: ASSET GROUP | F11: ASSET SUBGROUP | G11: ASSET COMPONENT | H11: MATERIAL | I11: SIZE | J11: LENGTH (m) | K11: DATE OF INSTALLATION | L11: CONDITION
A12: NAT-W-002 | B12: 434300-01 | C12: Well to Reservoir | E12: WATER | F12: Distribution | G12: Main | H12: DI | I12: 200 | J12: 10000 | K12: 36161

Sheet 2. ASSET INVENTORY - SANI MAIN
H2: Return to Table of Contents
D3: SANITARY MAIN SUMMARY
D4: Row Labels | E4: Sum of LENGTH (m)
D5: Main | E5: 5000 | O5: NAT-SM-001 | Q5: Hwy 101 (Homalco Rd. - East) | T5: 200mm Asbestos Concrete | U5: SANITARY | V5: Collection | W5: Main | X5: AC | Y5: 200 | Z5: 5000 | AA5: 30317
D6: Grand Total | E6: 5000
A7: INFRASTRUCTURE ASSETS
A8: ASSET INVENTORY - SANITARY MAINS
A11: NATION ASSET CODE | B11: ICMS ASSET CODE | C11: LOCATION DESCRIPTION | D11: MHs | E11: Drawing Set | F11: Notes | G11: ASSET GROUP | H11: ASSET SUBGROUP | I11: ASSET COMPONENT | J11: MATERIAL | K11: SIZE | L11: LENGTH (m) | M11: DATE OF INSTALLATION | N11: CONDITION
A12: NAT-SM-001 | C12: Hwy 100 | F12: 200mm Asbestos Concrete | G12: SANITARY | H12: Collection | I12: Main | J12: AC | K12: 200 | L12: 5000 | M12: 30317 | N12: Good

Sheet 3.ASSET INVENTORY - Non-Linear
D2: Return to Table of Contents | F2: SYSTEM | G2: UNITS | H2: UNITS2
F3: Water Treatment Plant | G3: Flow Rate | H3: m3/s
F4: Well | G4: Flow Rate | H4: m3/s
F5: Chlorine Disinfection | G5: Flow Rate | H5: m3/s
F6: Boost Station | G6: Flow Rate | H6: m3/s
F7: Reservoir | G7: Volume | H7: m3
F8: Lift Station | G8: Power | H8: hp
F9: Lagoon | G9: Volume | H9: m3
F10: Air Valve | G10: Diameter | H10: m
F11: PRV | G11: Diameter | H11: m
F12: Community Septic Tank | G12: Volume | H12: m3
A13: INFRASTRUCTURE ASSETS | F13: Community Septic Field | G13: Area | H13: m2
A14: ASSET INVENTORY - WATER SUPPLY, TREATMENT, AND STORAGE | F14: Sewage Treatment Plant | G14: Flow Rate | H14: m3/s
A15: ASSET INVENTORY - SANITARY TREATMENT AND DISPOSAL
A17: NATION ASSET CODE | B17: ICMS ASSET CODE | C17: LOCATION DESCRIPTION | D17: ASSET GROUP | E17: ASSET SUBGROUP | F17: ASSET COMPONENT | G17: TYPE | H17: SIZE | I17: UNIT | J17: DATE OF INSTALLATION | K17: CONDITION
A18: NAT-WT-001 | C18: Water Treatment Plant Access Rd. | D18: WATER | E18: Distribution | F18: Boost Station | I18: =IFERROR(VLOOKUP(Table13567[[#This Row],[ASSET COMPONENT]],Table10[],3,FALSE), " ") -> m3/s | J18: 1999 | K18: Good
A19: NAT-ST-001 | C19: Front Street | D19: WATER | E19: Distribution | F19: Air Release Valve | G19: Duplex | I19: =IFERROR(VLOOKUP(Table13567[[#This Row],[ASSET COMPONENT]],Table10[],3,FALSE), " ")
I20: =IFERROR(VLOOKUP(Table13567[[#This Row],[ASSET COMPONENT]],Table10[],3,FALSE), " ")
I21: =IFERROR(VLOOKUP(Table13567[[#This Row],[ASSET COMPONENT]],Table10[],3,FALSE), " ")
I22: =IFERROR(VLOOKUP(Table13567[[#This Row],[ASSET COMPONENT]],Table10[],3,FALSE), " ")
I23: =IFERROR(VLOOKUP(Table13567[[#This Row],[ASSET COMPONENT]],Table10[],3,FALSE), " ")
I24: =IFERROR(VLOOKUP(Table13567[[#This Row],[ASSET COMPONENT]],Table10[],3,FALSE), " ")
I25: =IFERROR(VLOOKUP(Table13567[[#This Row],[ASSET COMPONENT]],Table10[],3,FALSE), " ")
I26: =IFERROR(VLOOKUP(Table13567[[#This Row],[ASSET COMPONENT]],Table10[],3,FALSE), " ")
I27: =IFERROR(VLOOKUP(Table13567[[#This Row],[ASSET COMPONENT]],Table10[],3,FALSE), " ")
I28: =IFERROR(VLOOKUP(Table13567[[#This Row],[ASSET COMPONENT]],Table10[],3,FALSE), " ")
I29: =IFERROR(VLOOKUP(Table13567[[#This Row],[ASSET COMPONENT]],Table10[],3,FALSE), " ")
I30: =IFERROR(VLOOKUP(Table13567[[#This Row],[ASSET COMPONENT]],Table10[],3,FALSE), " ")
I31: =IFERROR(VLOOKUP(Table13567[[#This Row],[ASSET COMPONENT]],Table10[],3,FALSE), " ")
... I39: =IFERROR(VLOOKUP(Table13567[[#This Row],[ASSET COMPONENT]],Table10[],3,FALSE), " ")

Sheet 4. SUGGESTED WORK ORDERS
A7: LIST OF WORK ORDERS:
A10: WO Required? | B10: YES
A12: ASSET GROUP | B12: ASSET SUBGROUP | C12: TASK CODE | D12: TASK DESCRIPTION | E12: FREQUENCY
A13: WATER | B13: Distribution | C13: BS01 | D13: Weekly or Daily boost station inspection | E13: Weekly
C14: BS02 | D14: Monthly booster station inspection and Maintenance | E14: Monthly
C15: BS03 | D15: Annual Boost Station Inspection and Maintenance | E15: Annual
C16: W01 | D16: Distribution System Inspection | E16: Monthly
C17: W02 | D17: Annual Valve Inspection and Maintenance | E17: With W01
C18: W03 | D18: Watermain Flushing | E18: Annual
C19: W04 | D19: Hydrant Inspection, Maintenance, and Flushing | E19: Annual
C20: W07 | D20: Winterizing Water System | E20: As required
C21: W08 | D21: Watermain Spot Repairs | E21: As required
C22: W09 | D22: Curb Box and Curb Stop Repairs | E22: As required
C23: W10 | D23: Fire Hydrant and Standpipe Test | E23: 3 Times per Year
C24: W11 | D24: Valve Repair | E24: As required
C25: W12 | D25: Hydrant Repair (General) | E25: As required
C26: W14 | D26: Hydrant Painting | E26: As required
A27: SANITARY | B27: Collection | C27: LS01 | D27: Lift Station Weekly Inspection | E27: Weekly
C28: LS02 | D28: Lift Station Monthly Inspection | E28: Monthly
C29: LS03 | D29: Lift Station Quarterly Inspection and Maintenance | E29: Quarterly
C30: LS04 | D30: Lift Station Semi-Annual Inspection and Maintenance | E30: Semi-Annual
C31: LS05 | D31: Lift Station Annual Inspection and Maintenance | E31: Annual
C32: LS06 | D32: Pump out and flush wet well - vac truck | E32: Annual
C33: S01 | D33: Annual Sanitary Main Inspection | E33: Annual
C34: S02 | D34: Main Flushing and Cleaning | E34: Every 3 Years
C35: S03 | D35: CCTV Inspection | E35: Every 10 Years
C36: S04 | D36: Vac Truck | E36: As required
C37: S05 | D37: Annual Forcemain Inspection | E37: Annual

Sheet 5. SCHEDULE
R2: Return to Table of Contents
X4: SCHEDULE SUMMARY
X5: ANNUAL HOURS
X6: OPERATOR 1 | AE6: =BK16 -> 0
X7: OPERATOR 2 | AE7: =BK17 -> 0
X8: OPERATOR 3 | AE8: =BK18 -> 0
X9: TRUCK HOURS | AE9: =SUM(Table2[Truck]) -> 0
X10: MAINTENANCE PLANING HOURS: | AE10: =0.1*(SUM(Table2[Operator])) -> 0 | AI10: Maintenance Planning Hours budgeted at 10% of maintenance hours
B13: WATER AND WASTEWATER INFRASTRUCTURE ASSETS
B14: ANNUAL MAINTENANCE SCHEDULE | K14: Weekly Totals
H15: TOTAL HOURS | K15: =SUM(Table2[1]) -> 0 | L15: =SUM(Table2[2]) -> 0 | M15: =SUM(Table2[3]) -> 0 | N15: =SUM(Table2[4]) -> 0 | O15: =SUM(Table2[5]) -> 0 | P15: =SUM(Table2[6]) -> 0 | Q15: =SUM(Table2[7]) -> 0 | R15: =SUM(Table2[8]) -> 0 | S15: =SUM(Table2[9]) -> 0 | T15: =SUM(Table2[10]) -> 0 | U15: =SUM(Table2[11]) -> 0 | V15: =SUM(Table2[12]) -> 0 | W15: =SUM(Table2[13]) -> 0 | X15: =SUM(Table2[14]) -> 0 | Y15: =SUM(Table2[15]) -> 0 | Z15: =SUM(Table2[16]) -> 0 | AA15: =SUM(Table2[17]) -> 0 | AB15: =SUM(Table2[18]) -> 0 | AC15: =SUM(Table2[19]) -> 0 | AD15: =SUM(Table2[20]) -> 0 | AE15: =SUM(Table2[21]) -> 0 | AF15: =SUM(Table2[22]) -> 0 | AG15: =SUM(Table2[23]) -> 0 | AH15: =SUM(Table2[24]) -> 0 | AI15: =SUM(Table2[25]) -> 0 | AJ15: =SUM(Table2[26]) -> 0 | AK15: =SUM(Table2[27]) -> 0 | AL15: =SUM(Table2[28]) -> 0 | AM15: =SUM(Table2[29]) -> 0 | AN15: =SUM(Table2[30]) -> 0 | AO15: =SUM(Table2[31]) -> 0 | AP15: =SUM(Table2[32]) -> 0 | AQ15: =SUM(Table2[33]) -> 0 | AR15: =SUM(Table2[34]) -> 0 | AS15: =SUM(Table2[35]) -> 0 | AT15: =SUM(Table2[36]) -> 0 | AU15: =SUM(Table2[37]) -> 0 | AV15: =SUM(Table2[38]) -> 0 | AW15: =SUM(Table2[39]) -> 0 | AX15: =SUM(Table2[40]) -> 0 | AY15: =SUM(Table2[41]) -> 0 | AZ15: =SUM(Table2[42]) -> 0 | BA15: =SUM(Table2[43]) -> 0 | BB15: =SUM(Table2[44]) -> 0 | BC15: =SUM(Table2[45]) -> 0 | BD15: =SUM(Table2[46]) -> 0 | BE15: =SUM(Table2[47]) -> 0 | BF15: =SUM(Table2[48]) -> 0 | BG15: =SUM(Table2[49]) -> 0 | BH15: =SUM(Table2[50]) -> 0 | BI15: =SUM(Table2[51]) -> 0 | BJ15: =SUM(Table2[52]) -> 0 | BK15: ANNUAL HOURS
H16: Operator 1 | K16: =MIN('TABLE OF CONTENTS'!$K$18,K15) -> 0 | L16: =MIN('TABLE OF CONTENTS'!$K$18,L15) -> 0 | M16: =MIN('TABLE OF CONTENTS'!$K$18,M15) -> 0 | N16: =MIN('TABLE OF CONTENTS'!$K$18,N15) -> 0 | O16: =MIN('TABLE OF CONTENTS'!$K$18,O15) -> 0 | P16: =MIN('TABLE OF CONTENTS'!$K$18,P15) -> 0 | Q16: =MIN('TABLE OF CONTENTS'!$K$18,Q15) -> 0 | R16: =MIN('TABLE OF CONTENTS'!$K$18,R15) -> 0 | ... BJ16: =MIN('TABLE OF CONTENTS'!$K$18,BJ15) -> 0 | BK16: =SUM(K16:BJ16) -> 0
H17: Operator 2 | K17: =MIN('TABLE OF CONTENTS'!$K$18,K15-K16) -> 0 | L17: =MIN('TABLE OF CONTENTS'!$K$18,L15-L16) -> 0 | M17: =MIN('TABLE OF CONTENTS'!$K$18,M15-M16) -> 0 | N17: =MIN('TABLE OF CONTENTS'!$K$18,N15-N16) -> 0 | O17: =MIN('TABLE OF CONTENTS'!$K$18,O15-O16) -> 0 | P17: =MIN('TABLE OF CONTENTS'!$K$18,P15-P16) -> 0 | Q17: =MIN('TABLE OF CONTENTS'!$K$18,Q15-Q16) -> 0 | R17: =MIN('TABLE OF CONTENTS'!$K$18,R15-R16) -> 0 | ... BJ17: =MIN('TABLE OF CONTENTS'!$K$18,BJ15-BJ16) -> 0 | BK17: =SUM(K17:BJ17) -> 0
H18: Operator 3 | K18: =K15-K16-K17 -> 0 | L18: =L15-L16-L17 -> 0 | M18: =M15-M16-M17 -> 0 | N18: =N15-N16-N17 -> 0 | O18: =O15-O16-O17 -> 0 | P18: =P15-P16-P17 -> 0 | Q18: =Q15-Q16-Q17 -> 0 | R18: =R15-R16-R17 -> 0 | ... BJ18: =BJ15-BJ16-BJ17 -> 0 | BK18: =SUM(K18:BJ18) -> 0
K19: A N N U A L C A L E N D A R
F20: Crew Hours per Year | J20: January | O20: February | S20: March | W20: April | AA20: May | AE20: June | AI20: July | AN20: August | AS20: September | AW20: October | BB20: November | BF20: December | BK20: As Required
B21: Task Code | C21: ASSET GROUP | D21: Task Description | E21: Frequency | F21: Frequency Data | G21: Quantity Data | H21: Operator | I21: Truck | J21: Contractor | K21: 1 | L21: 2 | M21: 3 | N21: 4 | O21: 5 | P21: 6 | Q21: 7 | R21: 8 | S21: 9 | T21: 10 | U21: 11 | V21: 12 | W21: 13 | X21: 14 | Y21: 15 | Z21: 16 | AA21: 17 | AB21: 18 | AC21: 19 | AD21: 20 | AE21: 21 | AF21: 22 | AG21: 23 | AH21: 24 | AI21: 25 | AJ21: 26 | AK21: 27 | AL21: 28 | AM21: 29 | AN21: 30 | AO21: 31 | AP21: 32 | AQ21: 33 | AR21: 34 | AS21: 35 | AT21: 36 | AU21: 37 | AV21: 38 | AW21: 39 | AX21: 40 | AY21: 41 | AZ21: 42 | BA21: 43 | BB21: 44 | BC21: 45 | BD21: 46 | BE21: 47 | BF21: 48 | BG21: 49 | BH21: 50 | BI21: 51 | BJ21: 52 | BK21: N/A | BL21: check
C22: =IFERROR(VLOOKUP(Table2[[#This Row],[Task Code]],WO_Data_Masterlist[],2,FALSE)," ") | D22: =IFERROR(VLOOKUP(Table2[[#This Row],[Task Code]],WO_Data_Masterlist[],5,FALSE)," ") | E22: =IFERROR(VLOOKUP(Table2[[#This Row],[Task Code]],WO_Data_Masterlist[],6,FALSE)," ") | F22: =VLOOKUP(Table2[[#This Row],[Task Code]],WO_Data_Masterlist[],7,FALSE) -> #N/A | G22: =IF(VLOOKUP(Table2[[#This Row],[Task Code]],WO_Data_Masterlist[],15,FALSE)="N/A", 1, VLOOKUP(Table2[[#This Row],[Task Code]],WO_Data_Masterlist[],15,FALSE)) -> #N/A | H22: =IFERROR(VLOOKUP(Table2[[#This Row],[Task Code]],WO_Data_Masterlist[],9,FALSE)*Table2[[#This Row],[Frequency Data]]*Table2[[#This Row],[Quantity Data]]," ") | I22: =IFERROR(VLOOKUP(Table2[[#This Row],[Task Code]],WO_Data_Masterlist[],10,FALSE)*Table2[[#This Row],[Frequency Data]]*Table2[[#This Row],[Quantity Data]]," ") | J22: =VLOOKUP(Table2[[#This Row],[Task Code]],WO_Data_Masterlist[],12,FALSE)*Table2[[#This Row],[Frequency Data]] -> #N/A | BK22: =IF(Table2[[#This Row],[Operator]]=0,VLOOKUP(Table2[[#This Row],[Task Code]],WO_Data_Masterlist[],9,FALSE)," ") | BL22: =SUM(Table2[[#This Row],[1]:[N/A]]) -> 0
C23: =IFERROR(VLOOKUP(Table2[[#This Row],[Task Code]],WO_Data_Masterlist[],2,FALSE)," ") | D23: =IFERROR(VLOOKUP(Table2[[#This Row],[Task Code]],WO_Data_Masterlist[],5,FALSE)," ") | E23: =IFERROR(VLOOKUP(Table2[[#This Row],[Task Code]],WO_Data_Masterlist[],6,FALSE)," ") | F23: =VLOOKUP(Table2[[#This Row],[Task Code]],WO_Data_Masterlist[],7,FALSE) -> #N/A | G23: =IF(VLOOKUP(Table2[[#This Row],[Task Code]],WO_Data_Masterlist[],15,FALSE)="N/A", 1, VLOOKUP(Table2[[#This Row],[Task Code]],WO_Data_Masterlist[],15,FALSE)) -> #N/A | H23: =IFERROR(VLOOKUP(Table2[[#This Row],[Task Code]],WO_Data_Masterlist[],9,FALSE)*Table2[[#This Row],[Frequency Data]]*Table2[[#This Row],[Quantity Data]]," ") | I23: =IFERROR(VLOOKUP(Table2[[#This Row],[Task Code]],WO_Data_Masterlist[],10,FALSE)*Table2[[#This Row],[Frequency Data]]*Table2[[#This Row],[Quantity Data]]," ") | J23: =VLOOKUP(Table2[[#This Row],[Task Code]],WO_Data_Masterlist[],12,FALSE)*Table2[[#This Row],[Frequency Data]] -> #N/A | BK23: =IF(Table2[[#This Row],[Operator]]=0,VLOOKUP(Table2[[#This Row],[Task Code]],WO_Data_Masterlist[],9,FALSE)," ") | BL23: =SUM(Table2[[#This Row],[1]:[N/A]]) -> 0
C24: =IFERROR(VLOOKUP(Table2[[#This Row],[Task Code]],WO_Data_Masterlist[],2,FALSE)," ") | D24: =IFERROR(VLOOKUP(Table2[[#This Row],[Task Code]],WO_Data_Masterlist[],5,FALSE)," ") | E24: =IFERROR(VLOOKUP(Table2[[#This Row],[Task Code]],WO_Data_Masterlist[],6,FALSE)," ") | F24: =VLOOKUP(Table2[[#This Row],[Task Code]],WO_Data_Masterlist[],7,FALSE) -> #N/A | G24: =IF(VLOOKUP(Table2[[#This Row],[Task Code]],WO_Data_Masterlist[],15,FALSE)="N/A", 1, VLOOKUP(Table2[[#This Row],[Task Code]],WO_Data_Masterlist[],15,FALSE)) -> #N/A | H24: =IFERROR(VLOOKUP(Table2[[#This Row],[Task Code]],WO_Data_Masterlist[],9,FALSE)*Table2[[#This Row],[Frequency Data]]*Table2[[#This Row],[Quantity Data]]," ") | I24: =IFERROR(VLOOKUP(Table2[[#This Row],[Task Code]],WO_Data_Masterlist[],10,FALSE)*Table2[[#This Row],[Frequency Data]]*Table2[[#This Row],[Quantity Data]]," ") | J24: =VLOOKUP(Table2[[#This Row],[Task Code]],WO_Data_Masterlist[],12,FALSE)*Table2[[#This Row],[Frequency Data]] -> #N/A | BK24: =IF(Table2[[#This Row],[Operator]]=0,VLOOKUP(Table2[[#This Row],[Task Code]],WO_Data_Masterlist[],9,FALSE)," ") | BL24: =SUM(Table2[[#This Row],[1]:[N/A]]) -> 0
C25: =IFERROR(VLOOKUP(Table2[[#This Row],[Task Code]],WO_Data_Masterlist[],2,FALSE)," ") | D25: =IFERROR(VLOOKUP(Table2[[#This Row],[Task Code]],WO_Data_Masterlist[],5,FALSE)," ") | E25: =IFERROR(VLOOKUP(Table2[[#This Row],[Task Code]],WO_Data_Masterlist[],6,FALSE)," ") | F25: =VLOOKUP(Table2[[#This Row],[Task Code]],WO_Data_Masterlist[],7,FALSE) -> #N/A | G25: =IF(VLOOKUP(Table2[[#This Row],[Task Code]],WO_Data_Masterlist[],15,FALSE)="N/A", 1, VLOOKUP(Table2[[#This Row],[Task Code]],WO_Data_Masterlist[],15,FALSE)) -> #N/A | H25: =IFERROR(VLOOKUP(Table2[[#This Row],[Task Code]],WO_Data_Masterlist[],9,FALSE)*Table2[[#This Row],[Frequency Data]]*Table2[[#This Row],[Quantity Data]]," ") | I25: =IFERROR(VLOOKUP(Table2[[#This Row],[Task Code]],WO_Data_Masterlist[],10,FALSE)*Table2[[#This Row],[Frequency Data]]*Table2[[#This Row],[Quantity Data]]," ") | J25: =VLOOKUP(Table2[[#This Row],[Task Code]],WO_Data_Masterlist[],12,FALSE)*Table2[[#This Row],[Frequency Data]] -> #N/A | BK25: =IF(Table2[[#This Row],[Operator]]=0,VLOOKUP(Table2[[#This Row],[Task Code]],WO_Data_Masterlist[],9,FALSE)," ") | BL25: =SUM(Table2[[#This Row],[1]:[N/A]]) -> 0
C26: =IFERROR(VLOOKUP(Table2[[#This Row],[Task Code]],WO_Data_Masterlist[],2,FALSE)," ") | D26: =IFERROR(VLOOKUP(Table2[[#This Row],[Task Code]],WO_Data_Masterlist[],5,FALSE)," ") | E26: =IFERROR(VLOOKUP(Table2[[#This Row],[Task Code]],WO_Data_Masterlist[],6,FALSE)," ") | F26: =VLOOKUP(Table2[[#This Row],[Task Code]],WO_Data_Masterlist[],7,FALSE) -> #N/A | G26: =IF(VLOOKUP(Table2[[#This Row],[Task Code]],WO_Data_Masterlist[],15,FALSE)="N/A", 1, VLOOKUP(Table2[[#This Row],[Task Code]],WO_Data_Masterlist[],15,FALSE)) -> #N/A | H26: =IFERROR(VLOOKUP(Table2[[#This Row],[Task Code]],WO_Data_Masterlist[],9,FALSE)*Table2[[#This Row],[Frequency Data]]*Table2[[#This Row],[Quantity Data]]," ") | I26: =IFERROR(VLOOKUP(Table2[[#This Row],[Task Code]],WO_Data_Masterlist[],10,FALSE)*Table2[[#This Row],[Frequency Data]]*Table2[[#This Row],[Quantity Data]]," ") | J26: =VLOOKUP(Table2[[#This Row],[Task Code]],WO_Data_Masterlist[],12,FALSE)*Table2[[#This Row],[Frequency Data]] -> #N/A | BK26: =IF(Table2[[#This Row],[Operator]]=0,VLOOKUP(Table2[[#This Row],[Task Code]],WO_Data_Masterlist[],9,FALSE)," ") | BL26: =SUM(Table2[[#This Row],[1]:[N/A]]) -> 0
C27: =IFERROR(VLOOKUP(Table2[[#This Row],[Task Code]],WO_Data_Masterlist[],2,FALSE)," ") | D27: =IFERROR(VLOOKUP(Table2[[#This Row],[Task Code]],WO_Data_Masterlist[],5,FALSE)," ") | E27: =IFERROR(VLOOKUP(Table2[[#This Row],[Task Code]],WO_Data_Masterlist[],6,FALSE)," ") | F27: =VLOOKUP(Table2[[#This Row],[Task Code]],WO_Data_Masterlist[],7,FALSE) -> #N/A | G27: =IF(VLOOKUP(Table2[[#This Row],[Task Code]],WO_Data_Masterlist[],15,FALSE)="N/A", 1, VLOOKUP(Table2[[#This Row],[Task Code]],WO_Data_Masterlist[],15,FALSE)) -> #N/A | H27: =IFERROR(VLOOKUP(Table2[[#This Row],[Task Code]],WO_Data_Masterlist[],9,FALSE)*Table2[[#This Row],[Frequency Data]]*Table2[[#This Row],[Quantity Data]]," ") | I27: =IFERROR(VLOOKUP(Table2[[#This Row],[Task Code]],WO_Data_Masterlist[],10,FALSE)*Table2[[#This Row],[Frequency Data]]*Table2[[#This Row],[Quantity Data]]," ") | J27: =VLOOKUP(Table2[[#This Row],[Task Code]],WO_Data_Masterlist[],12,FALSE)*Table2[[#This Row],[Frequency Data]] -> #N/A | BK27: =IF(Table2[[#This Row],[Operator]]=0,VLOOKUP(Table2[[#This Row],[Task Code]],WO_Data_Masterlist[],9,FALSE)," ") | BL27: =SUM(Table2[[#This Row],[1]:[N/A]]) -> 0
C28: =IFERROR(VLOOKUP(Table2[[#This Row],[Task Code]],WO_Data_Masterlist[],2,FALSE)," ") | D28: =IFERROR(VLOOKUP(Table2[[#This Row],[Task Code]],WO_Data_Masterlist[],5,FALSE)," ") | E28: =IFERROR(VLOOKUP(Table2[[#This Row],[Task Code]],WO_Data_Masterlist[],6,FALSE)," ") | F28: =VLOOKUP(Table2[[#This Row],[Task Code]],WO_Data_Masterlist[],7,FALSE) -> #N/A | G28: =IF(VLOOKUP(Table2[[#This Row],[Task Code]],WO_Data_Masterlist[],15,FALSE)="N/A", 1, VLOOKUP(Table2[[#This Row],[Task Code]],WO_Data_Masterlist[],15,FALSE)) -> #N/A | H28: =IFERROR(VLOOKUP(Table2[[#This Row],[Task Code]],WO_Data_Masterlist[],9,FALSE)*Table2[[#This Row],[Frequency Data]]*Table2[[#This Row],[Quantity Data]]," ") | I28: =IFERROR(VLOOKUP(Table2[[#This Row],[Task Code]],WO_Data_Masterlist[],10,FALSE)*Table2[[#This Row],[Frequency Data]]*Table2[[#This Row],[Quantity Data]]," ") | J28: =VLOOKUP(Table2[[#This Row],[Task Code]],WO_Data_Masterlist[],12,FALSE)*Table2[[#This Row],[Frequency Data]] -> #N/A | BK28: =IF(Table2[[#This Row],[Operator]]=0,VLOOKUP(Table2[[#This Row],[Task Code]],WO_Data_Masterlist[],9,FALSE)," ") | BL28: =SUM(Table2[[#This Row],[1]:[N/A]]) -> 0
C29: =IFERROR(VLOOKUP(Table2[[#This Row],[Task Code]],WO_Data_Masterlist[],2,FALSE)," ") | D29: =IFERROR(VLOOKUP(Table2[[#This Row],[Task Code]],WO_Data_Masterlist[],5,FALSE)," ") | E29: =IFERROR(VLOOKUP(Table2[[#This Row],[Task Code]],WO_Data_Masterlist[],6,FALSE)," ") | F29: =VLOOKUP(Table2[[#This Row],[Task Code]],WO_Data_Masterlist[],7,FALSE) -> #N/A | G29: =IF(VLOOKUP(Table2[[#This Row],[Task Code]],WO_Data_Masterlist[],15,FALSE)="N/A", 1, VLOOKUP(Table2[[#This Row],[Task Code]],WO_Data_Masterlist[],15,FALSE)) -> #N/A | H29: =IFERROR(VLOOKUP(Table2[[#This Row],[Task Code]],WO_Data_Masterlist[],9,FALSE)*Table2[[#This Row],[Frequency Data]]*Table2[[#This Row],[Quantity Data]]," ") | I29: =IFERROR(VLOOKUP(Table2[[#This Row],[Task Code]],WO_Data_Masterlist[],10,FALSE)*Table2[[#This Row],[Frequency Data]]*Table2[[#This Row],[Quantity Data]]," ") | J29: =VLOOKUP(Table2[[#This Row],[Task Code]],WO_Data_Masterlist[],12,FALSE)*Table2[[#This Row],[Frequency Data]] -> #N/A | BK29: =IF(Table2[[#This Row],[Operator]]=0,VLOOKUP(Table2[[#This Row],[Task Code]],WO_Data_Masterlist[],9,FALSE)," ") | BL29: =SUM(Table2[[#This Row],[1]:[N/A]]) -> 0
C30: =IFERROR(VLOOKUP(Table2[[#This Row],[Task Code]],WO_Data_Masterlist[],2,FALSE)," ") | D30: =IFERROR(VLOOKUP(Table2[[#This Row],[Task Code]],WO_Data_Masterlist[],5,FALSE)," ") | E30: =IFERROR(VLOOKUP(Table2[[#This Row],[Task Code]],WO_Data_Masterlist[],6,FALSE)," ") | F30: =VLOOKUP(Table2[[#This Row],[Task Code]],WO_Data_Masterlist[],7,FALSE) -> #N/A | G30: =IF(VLOOKUP(Table2[[#This Row],[Task Code]],WO_Data_Masterlist[],15,FALSE)="N/A", 1, VLOOKUP(Table2[[#This Row],[Task Code]],WO_Data_Masterlist[],15,FALSE)) -> #N/A | H30: =IFERROR(VLOOKUP(Table2[[#This Row],[Task Code]],WO_Data_Masterlist[],9,FALSE)*Table2[[#This Row],[Frequency Data]]*Table2[[#This Row],[Quantity Data]]," ") | I30: =IFERROR(VLOOKUP(Table2[[#This Row],[Task Code]],WO_Data_Masterlist[],10,FALSE)*Table2[[#This Row],[Frequency Data]]*Table2[[#This Row],[Quantity Data]]," ") | J30: =VLOOKUP(Table2[[#This Row],[Task Code]],WO_Data_Masterlist[],12,FALSE)*Table2[[#This Row],[Frequency Data]] -> #N/A | BK30: =IF(Table2[[#This Row],[Operator]]=0,VLOOKUP(Table2[[#This Row],[Task Code]],WO_Data_Masterlist[],9,FALSE)," ") | BL30: =SUM(Table2[[#This Row],[1]:[N/A]]) -> 0
C31: =IFERROR(VLOOKUP(Table2[[#This Row],[Task Code]],WO_Data_Masterlist[],2,FALSE)," ") | D31: =IFERROR(VLOOKUP(Table2[[#This Row],[Task Code]],WO_Data_Masterlist[],5,FALSE)," ") | E31: =IFERROR(VLOOKUP(Table2[[#This Row],[Task Code]],WO_Data_Masterlist[],6,FALSE)," ") | F31: =VLOOKUP(Table2[[#This Row],[Task Code]],WO_Data_Masterlist[],7,FALSE) -> #N/A | G31: =IF(VLOOKUP(Table2[[#This Row],[Task Code]],WO_Data_Masterlist[],15,FALSE)="N/A", 1, VLOOKUP(Table2[[#This Row],[Task Code]],WO_Data_Masterlist[],15,FALSE)) -> #N/A | H31: =IFERROR(VLOOKUP(Table2[[#This Row],[Task Code]],WO_Data_Masterlist[],9,FALSE)*Table2[[#This Row],[Frequency Data]]*Table2[[#This Row],[Quantity Data]]," ") | I31: =IFERROR(VLOOKUP(Table2[[#This Row],[Task Code]],WO_Data_Masterlist[],10,FALSE)*Table2[[#This Row],[Frequency Data]]*Table2[[#This Row],[Quantity Data]]," ") | J31: =VLOOKUP(Table2[[#This Row],[Task Code]],WO_Data_Masterlist[],12,FALSE)*Table2[[#This Row],[Frequency Data]] -> #N/A | BK31: =IF(Table2[[#This Row],[Operator]]=0,VLOOKUP(Table2[[#This Row],[Task Code]],WO_Data_Masterlist[],9,FALSE)," ") | BL31: =SUM(Table2[[#This Row],[1]:[N/A]]) -> 0
C32: =IFERROR(VLOOKUP(Table2[[#This Row],[Task Code]],WO_Data_Masterlist[],2,FALSE)," ") | D32: =IFERROR(VLOOKUP(Table2[[#This Row],[Task Code]],WO_Data_Masterlist[],5,FALSE)," ") | E32: =IFERROR(VLOOKUP(Table2[[#This Row],[Task Code]],WO_Data_Masterlist[],6,FALSE)," ") | F32: =VLOOKUP(Table2[[#This Row],[Task Code]],WO_Data_Masterlist[],7,FALSE) -> #N/A | G32: =IF(VLOOKUP(Table2[[#This Row],[Task Code]],WO_Data_Masterlist[],15,FALSE)="N/A", 1, VLOOKUP(Table2[[#This Row],[Task Code]],WO_Data_Masterlist[],15,FALSE)) -> #N/A | H32: =IFERROR(VLOOKUP(Table2[[#This Row],[Task Code]],WO_Data_Masterlist[],9,FALSE)*Table2[[#This Row],[Frequency Data]]*Table2[[#This Row],[Quantity Data]]," ") | I32: =IFERROR(VLOOKUP(Table2[[#This Row],[Task Code]],WO_Data_Masterlist[],10,FALSE)*Table2[[#This Row],[Frequency Data]]*Table2[[#This Row],[Quantity Data]]," ") | J32: =VLOOKUP(Table2[[#This Row],[Task Code]],WO_Data_Masterlist[],12,FALSE)*Table2[[#This Row],[Frequency Data]] -> #N/A | BK32: =IF(Table2[[#This Row],[Operator]]=0,VLOOKUP(Table2[[#This Row],[Task Code]],WO_Data_Masterlist[],9,FALSE)," ") | BL32: =SUM(Table2[[#This Row],[1]:[N/A]]) -> 0
C33: =IFERROR(VLOOKUP(Table2[[#This Row],[Task Code]],WO_Data_Masterlist[],2,FALSE)," ") | D33: =IFERROR(VLOOKUP(Table2[[#This Row],[Task Code]],WO_Data_Masterlist[],5,FALSE)," ") | E33: =IFERROR(VLOOKUP(Table2[[#This Row],[Task Code]],WO_Data_Masterlist[],6,FALSE)," ") | F33: =VLOOKUP(Table2[[#This Row],[Task Code]],WO_Data_Masterlist[],7,FALSE) -> #N/A | G33: =IF(VLOOKUP(Table2[[#This Row],[Task Code]],WO_Data_Masterlist[],15,FALSE)="N/A", 1, VLOOKUP(Table2[[#This Row],[Task Code]],WO_Data_Masterlist[],15,FALSE)) -> #N/A | H33: =IFERROR(VLOOKUP(Table2[[#This Row],[Task Code]],WO_Data_Masterlist[],9,FALSE)*Table2[[#This Row],[Frequency Data]]*Table2[[#This Row],[Quantity Data]]," ") | I33: =IFERROR(VLOOKUP(Table2[[#This Row],[Task Code]],WO_Data_Masterlist[],10,FALSE)*Table2[[#This Row],[Frequency Data]]*Table2[[#This Row],[Quantity Data]]," ") | J33: =VLOOKUP(Table2[[#This Row],[Task Code]],WO_Data_Masterlist[],12,FALSE)*Table2[[#This Row],[Frequency Data]] -> #N/A | BK33: =IF(Table2[[#This Row],[Operator]]=0,VLOOKUP(Table2[[#This Row],[Task Code]],WO_Data_Masterlist[],9,FALSE)," ") | BL33: =SUM(Table2[[#This Row],[1]:[N/A]]) -> 0
... C64: =IFERROR(VLOOKUP(Table2[[#This Row],[Task Code]],WO_Data_Masterlist[],2,FALSE)," ") | D64: =IFERROR(VLOOKUP(Table2[[#This Row],[Task Code]],WO_Data_Masterlist[],5,FALSE)," ") | E64: =IFERROR(VLOOKUP(Table2[[#This Row],[Task Code]],WO_Data_Masterlist[],6,FALSE)," ") | F64: =VLOOKUP(Table2[[#This Row],[Task Code]],WO_Data_Masterlist[],7,FALSE) -> #N/A | G64: =IF(VLOOKUP(Table2[[#This Row],[Task Code]],WO_Data_Masterlist[],15,FALSE)="N/A", 1, VLOOKUP(Table2[[#This Row],[Task Code]],WO_Data_Masterlist[],15,FALSE)) -> #N/A | H64: =IFERROR(VLOOKUP(Table2[[#This Row],[Task Code]],WO_Data_Masterlist[],9,FALSE)*Table2[[#This Row],[Frequency Data]]*Table2[[#This Row],[Quantity Data]]," ") | I64: =IFERROR(VLOOKUP(Table2[[#This Row],[Task Code]],WO_Data_Masterlist[],10,FALSE)*Table2[[#This Row],[Frequency Data]]*Table2[[#This Row],[Quantity Data]]," ") | J64: =VLOOKUP(Table2[[#This Row],[Task Code]],WO_Data_Masterlist[],12,FALSE)*Table2[[#This Row],[Frequency Data]] -> #N/A | BK64: =IF(Table2[[#This Row],[Operator]]=0,VLOOKUP(Table2[[#This Row],[Task Code]],WO_Data_Masterlist[],9,FALSE)," ") | BL64: =SUM(Table2[[#This Row],[1]:[N/A]]) -> 0

Sheet 6. BUDGET
K2: Return to Table of Contents | N2: Labour Rates
N3: Labour | O3: ='TABLE OF CONTENTS'!K15 -> 31
N4: Truck | O4: ='TABLE OF CONTENTS'!K16 -> 16.466621
L6: TOTAL ANNUAL BUDGET
L7: Operator | O7: {=IFERROR(SUM(Table210[Operator]*O3)," ")}
L8: Truck | O8: =IFERROR((SUM(Table210[Truck])*O4)," ") -> 0
L9: Contractor | O9: {=IFERROR(SUM(Table210[Contractor]*Table210[Frequency Data]*Table210[Quantity2])," ")}
L10: Equipment | O10: {=IFERROR(SUM(Table210[Equipment]*Table210[Frequency Data]*Table210[Quantity2])," ")}
L11: Parts & Materials | O11: {=IFERROR(SUM(Table210[Parts & Materials]*Table210[Frequency Data]*Table210[Quantity2])," ")}
B12: WATER AND WASTEWATER INFRASTRUCTURE ASSETS | L12: Energy Requirements | O12: =IFERROR(SUM(Table210[Annual Energy Cost])," ") -> 0
B13: ANNUAL MAINTENANCE BUDGET | L13: TOTAL WATER AND WASTEWATER O&M | O13: =SUM(O7:O12) -> 0
B17: Maintenance Task | I17: Crew Hours per Year | K17: Costs per Task
B18: Task Code | C18: Asset Group | D18: Asset Component | E18: Task Description | F18: Frequency | G18: Frequency Data | H18: Quantity2 | I18: Operator | J18: Truck | K18: Contractor | L18: Equipment | M18: Parts & Materials | N18: Annual Energy Cost | O18: Annual Budget
C19: =IFERROR(VLOOKUP(Table210[[#This Row],[Task Code]],WO_Data_Masterlist[],2,FALSE)," ") | D19: =IFERROR(VLOOKUP(Table210[[#This Row],[Task Code]],WO_Data_Masterlist[],4,FALSE)," ") | E19: =IFERROR(VLOOKUP(Table210[[#This Row],[Task Code]],WO_Data_Masterlist[],5,FALSE)," ") | F19: =IFERROR(VLOOKUP(Table210[[#This Row],[Task Code]],WO_Data_Masterlist[],6,FALSE)," ") | G19: =VLOOKUP(Table210[[#This Row],[Task Code]],WO_Data_Masterlist[],7,FALSE) -> #N/A | H19: =IF(VLOOKUP(Table210[[#This Row],[Task Code]],WO_Data_Masterlist[],15,FALSE)="N/A",1,VLOOKUP(Table210[[#This Row],[Task Code]],WO_Data_Masterlist[],15,FALSE)) -> #N/A | I19: =IFERROR(VLOOKUP(Table210[[#This Row],[Task Code]],WO_Data_Masterlist[],9,FALSE)*Table210[[#This Row],[Frequency Data]]*Table210[[#This Row],[Quantity2]]," ") | J19: =IFERROR(VLOOKUP(Table210[[#This Row],[Task Code]],WO_Data_Masterlist[],10,FALSE)*Table210[[#This Row],[Frequency Data]]*Table210[[#This Row],[Quantity2]]," ") | K19: =IFERROR(VLOOKUP(Table210[[#This Row],[Task Code]],WO_Data_Masterlist[],11,FALSE)," ") | L19: =IFERROR(VLOOKUP(Table210[[#This Row],[Task Code]],WO_Data_Masterlist[],12,FALSE)," ") | M19: =IFERROR(VLOOKUP(Table210[[#This Row],[Task Code]],WO_Data_Masterlist[],13,FALSE)," ") | N19: =IFERROR(VLOOKUP(Table210[[#This Row],[Task Code]],WO_Data_Masterlist[],17,FALSE)," ") | O19: =IFERROR(((Table210[[#This Row],[Operator]]*$O$3)+(Table210[[#This Row],[Truck]]*$O$4)+(((Table210[[#This Row],[Contractor]]+Table210[[#This Row],[Equipment]]+Table210[[#This Row],[Parts & Materials]])*Table210[[#This Row],[Quantity2]])*Table210[[#This Row],[Frequency Data]]))+Table210[[#This Row],[Annual Energy Cost]]," ")
C20: =IFERROR(VLOOKUP(Table210[[#This Row],[Task Code]],WO_Data_Masterlist[],2,FALSE)," ") | D20: =IFERROR(VLOOKUP(Table210[[#This Row],[Task Code]],WO_Data_Masterlist[],4,FALSE)," ") | E20: =IFERROR(VLOOKUP(Table210[[#This Row],[Task Code]],WO_Data_Masterlist[],5,FALSE)," ") | F20: =IFERROR(VLOOKUP(Table210[[#This Row],[Task Code]],WO_Data_Masterlist[],6,FALSE)," ") | G20: =VLOOKUP(Table210[[#This Row],[Task Code]],WO_Data_Masterlist[],7,FALSE) -> #N/A | H20: =IF(VLOOKUP(Table210[[#This Row],[Task Code]],WO_Data_Masterlist[],15,FALSE)="N/A",1,VLOOKUP(Table210[[#This Row],[Task Code]],WO_Data_Masterlist[],15,FALSE)) -> #N/A | I20: =IFERROR(VLOOKUP(Table210[[#This Row],[Task Code]],WO_Data_Masterlist[],9,FALSE)*Table210[[#This Row],[Frequency Data]]*Table210[[#This Row],[Quantity2]]," ") | J20: =IFERROR(VLOOKUP(Table210[[#This Row],[Task Code]],WO_Data_Masterlist[],10,FALSE)*Table210[[#This Row],[Frequency Data]]*Table210[[#This Row],[Quantity2]]," ") | K20: =IFERROR(VLOOKUP(Table210[[#This Row],[Task Code]],WO_Data_Masterlist[],11,FALSE)," ") | L20: =IFERROR(VLOOKUP(Table210[[#This Row],[Task Code]],WO_Data_Masterlist[],12,FALSE)," ") | M20: =IFERROR(VLOOKUP(Table210[[#This Row],[Task Code]],WO_Data_Masterlist[],13,FALSE)," ") | N20: =IFERROR(VLOOKUP(Table210[[#This Row],[Task Code]],WO_Data_Masterlist[],17,FALSE)," ") | O20: =IFERROR(((Table210[[#This Row],[Operator]]*$O$3)+(Table210[[#This Row],[Truck]]*$O$4)+(((Table210[[#This Row],[Contractor]]+Table210[[#This Row],[Equipment]]+Table210[[#This Row],[Parts & Materials]])*Table210[[#This Row],[Quantity2]])*Table210[[#This Row],[Frequency Data]]))+Table210[[#This Row],[Annual Energy Cost]]," ")
C21: =IFERROR(VLOOKUP(Table210[[#This Row],[Task Code]],WO_Data_Masterlist[],2,FALSE)," ") | D21: =IFERROR(VLOOKUP(Table210[[#This Row],[Task Code]],WO_Data_Masterlist[],4,FALSE)," ") | E21: =IFERROR(VLOOKUP(Table210[[#This Row],[Task Code]],WO_Data_Masterlist[],5,FALSE)," ") | F21: =IFERROR(VLOOKUP(Table210[[#This Row],[Task Code]],WO_Data_Masterlist[],6,FALSE)," ") | G21: =VLOOKUP(Table210[[#This Row],[Task Code]],WO_Data_Masterlist[],7,FALSE) -> #N/A | H21: =IF(VLOOKUP(Table210[[#This Row],[Task Code]],WO_Data_Masterlist[],15,FALSE)="N/A",1,VLOOKUP(Table210[[#This Row],[Task Code]],WO_Data_Masterlist[],15,FALSE)) -> #N/A | I21: =IFERROR(VLOOKUP(Table210[[#This Row],[Task Code]],WO_Data_Masterlist[],9,FALSE)*Table210[[#This Row],[Frequency Data]]*Table210[[#This Row],[Quantity2]]," ") | J21: =IFERROR(VLOOKUP(Table210[[#This Row],[Task Code]],WO_Data_Masterlist[],10,FALSE)*Table210[[#This Row],[Frequency Data]]*Table210[[#This Row],[Quantity2]]," ") | K21: =IFERROR(VLOOKUP(Table210[[#This Row],[Task Code]],WO_Data_Masterlist[],11,FALSE)," ") | L21: =IFERROR(VLOOKUP(Table210[[#This Row],[Task Code]],WO_Data_Masterlist[],12,FALSE)," ") | M21: =IFERROR(VLOOKUP(Table210[[#This Row],[Task Code]],WO_Data_Masterlist[],13,FALSE)," ") | N21: =IFERROR(VLOOKUP(Table210[[#This Row],[Task Code]],WO_Data_Masterlist[],17,FALSE)," ") | O21: =IFERROR(((Table210[[#This Row],[Operator]]*$O$3)+(Table210[[#This Row],[Truck]]*$O$4)+(((Table210[[#This Row],[Contractor]]+Table210[[#This Row],[Equipment]]+Table210[[#This Row],[Parts & Materials]])*Table210[[#This Row],[Quantity2]])*Table210[[#This Row],[Frequency Data]]))+Table210[[#This Row],[Annual Energy Cost]]," ")
C22: =IFERROR(VLOOKUP(Table210[[#This Row],[Task Code]],WO_Data_Masterlist[],2,FALSE)," ") | D22: =IFERROR(VLOOKUP(Table210[[#This Row],[Task Code]],WO_Data_Masterlist[],4,FALSE)," ") | E22: =IFERROR(VLOOKUP(Table210[[#This Row],[Task Code]],WO_Data_Masterlist[],5,FALSE)," ") | F22: =IFERROR(VLOOKUP(Table210[[#This Row],[Task Code]],WO_Data_Masterlist[],6,FALSE)," ") | G22: =VLOOKUP(Table210[[#This Row],[Task Code]],WO_Data_Masterlist[],7,FALSE) -> #N/A | H22: =IF(VLOOKUP(Table210[[#This Row],[Task Code]],WO_Data_Masterlist[],15,FALSE)="N/A",1,VLOOKUP(Table210[[#This Row],[Task Code]],WO_Data_Masterlist[],15,FALSE)) -> #N/A | I22: =IFERROR(VLOOKUP(Table210[[#This Row],[Task Code]],WO_Data_Masterlist[],9,FALSE)*Table210[[#This Row],[Frequency Data]]*Table210[[#This Row],[Quantity2]]," ") | J22: =IFERROR(VLOOKUP(Table210[[#This Row],[Task Code]],WO_Data_Masterlist[],10,FALSE)*Table210[[#This Row],[Frequency Data]]*Table210[[#This Row],[Quantity2]]," ") | K22: =IFERROR(VLOOKUP(Table210[[#This Row],[Task Code]],WO_Data_Masterlist[],11,FALSE)," ") | L22: =IFERROR(VLOOKUP(Table210[[#This Row],[Task Code]],WO_Data_Masterlist[],12,FALSE)," ") | M22: =IFERROR(VLOOKUP(Table210[[#This Row],[Task Code]],WO_Data_Masterlist[],13,FALSE)," ") | N22: =IFERROR(VLOOKUP(Table210[[#This Row],[Task Code]],WO_Data_Masterlist[],17,FALSE)," ") | O22: =IFERROR(((Table210[[#This Row],[Operator]]*$O$3)+(Table210[[#This Row],[Truck]]*$O$4)+(((Table210[[#This Row],[Contractor]]+Table210[[#This Row],[Equipment]]+Table210[[#This Row],[Parts & Materials]])*Table210[[#This Row],[Quantity2]])*Table210[[#This Row],[Frequency Data]]))+Table210[[#This Row],[Annual Energy Cost]]," ")
C23: =IFERROR(VLOOKUP(Table210[[#This Row],[Task Code]],WO_Data_Masterlist[],2,FALSE)," ") | D23: =IFERROR(VLOOKUP(Table210[[#This Row],[Task Code]],WO_Data_Masterlist[],4,FALSE)," ") | E23: =IFERROR(VLOOKUP(Table210[[#This Row],[Task Code]],WO_Data_Masterlist[],5,FALSE)," ") | F23: =IFERROR(VLOOKUP(Table210[[#This Row],[Task Code]],WO_Data_Masterlist[],6,FALSE)," ") | G23: =VLOOKUP(Table210[[#This Row],[Task Code]],WO_Data_Masterlist[],7,FALSE) -> #N/A | H23: =IF(VLOOKUP(Table210[[#This Row],[Task Code]],WO_Data_Masterlist[],15,FALSE)="N/A",1,VLOOKUP(Table210[[#This Row],[Task Code]],WO_Data_Masterlist[],15,FALSE)) -> #N/A | I23: =IFERROR(VLOOKUP(Table210[[#This Row],[Task Code]],WO_Data_Masterlist[],9,FALSE)*Table210[[#This Row],[Frequency Data]]*Table210[[#This Row],[Quantity2]]," ") | J23: =IFERROR(VLOOKUP(Table210[[#This Row],[Task Code]],WO_Data_Masterlist[],10,FALSE)*Table210[[#This Row],[Frequency Data]]*Table210[[#This Row],[Quantity2]]," ") | K23: =IFERROR(VLOOKUP(Table210[[#This Row],[Task Code]],WO_Data_Masterlist[],11,FALSE)," ") | L23: =IFERROR(VLOOKUP(Table210[[#This Row],[Task Code]],WO_Data_Masterlist[],12,FALSE)," ") | M23: =IFERROR(VLOOKUP(Table210[[#This Row],[Task Code]],WO_Data_Masterlist[],13,FALSE)," ") | N23: =IFERROR(VLOOKUP(Table210[[#This Row],[Task Code]],WO_Data_Masterlist[],17,FALSE)," ") | O23: =IFERROR(((Table210[[#This Row],[Operator]]*$O$3)+(Table210[[#This Row],[Truck]]*$O$4)+(((Table210[[#This Row],[Contractor]]+Table210[[#This Row],[Equipment]]+Table210[[#This Row],[Parts & Materials]])*Table210[[#This Row],[Quantity2]])*Table210[[#This Row],[Frequency Data]]))+Table210[[#This Row],[Annual Energy Cost]]," ")
C24: =IFERROR(VLOOKUP(Table210[[#This Row],[Task Code]],WO_Data_Masterlist[],2,FALSE)," ") | D24: =IFERROR(VLOOKUP(Table210[[#This Row],[Task Code]],WO_Data_Masterlist[],4,FALSE)," ") | E24: =IFERROR(VLOOKUP(Table210[[#This Row],[Task Code]],WO_Data_Masterlist[],5,FALSE)," ") | F24: =IFERROR(VLOOKUP(Table210[[#This Row],[Task Code]],WO_Data_Masterlist[],6,FALSE)," ") | G24: =VLOOKUP(Table210[[#This Row],[Task Code]],WO_Data_Masterlist[],7,FALSE) -> #N/A | H24: =IF(VLOOKUP(Table210[[#This Row],[Task Code]],WO_Data_Masterlist[],15,FALSE)="N/A",1,VLOOKUP(Table210[[#This Row],[Task Code]],WO_Data_Masterlist[],15,FALSE)) -> #N/A | I24: =IFERROR(VLOOKUP(Table210[[#This Row],[Task Code]],WO_Data_Masterlist[],9,FALSE)*Table210[[#This Row],[Frequency Data]]*Table210[[#This Row],[Quantity2]]," ") | J24: =IFERROR(VLOOKUP(Table210[[#This Row],[Task Code]],WO_Data_Masterlist[],10,FALSE)*Table210[[#This Row],[Frequency Data]]*Table210[[#This Row],[Quantity2]]," ") | K24: =IFERROR(VLOOKUP(Table210[[#This Row],[Task Code]],WO_Data_Masterlist[],11,FALSE)," ") | L24: =IFERROR(VLOOKUP(Table210[[#This Row],[Task Code]],WO_Data_Masterlist[],12,FALSE)," ") | M24: =IFERROR(VLOOKUP(Table210[[#This Row],[Task Code]],WO_Data_Masterlist[],13,FALSE)," ") | N24: =IFERROR(VLOOKUP(Table210[[#This Row],[Task Code]],WO_Data_Masterlist[],17,FALSE)," ") | O24: =IFERROR(((Table210[[#This Row],[Operator]]*$O$3)+(Table210[[#This Row],[Truck]]*$O$4)+(((Table210[[#This Row],[Contractor]]+Table210[[#This Row],[Equipment]]+Table210[[#This Row],[Parts & Materials]])*Table210[[#This Row],[Quantity2]])*Table210[[#This Row],[Frequency Data]]))+Table210[[#This Row],[Annual Energy Cost]]," ")
C25: =IFERROR(VLOOKUP(Table210[[#This Row],[Task Code]],WO_Data_Masterlist[],2,FALSE)," ") | D25: =IFERROR(VLOOKUP(Table210[[#This Row],[Task Code]],WO_Data_Masterlist[],4,FALSE)," ") | E25: =IFERROR(VLOOKUP(Table210[[#This Row],[Task Code]],WO_Data_Masterlist[],5,FALSE)," ") | F25: =IFERROR(VLOOKUP(Table210[[#This Row],[Task Code]],WO_Data_Masterlist[],6,FALSE)," ") | G25: =VLOOKUP(Table210[[#This Row],[Task Code]],WO_Data_Masterlist[],7,FALSE) -> #N/A | H25: =IF(VLOOKUP(Table210[[#This Row],[Task Code]],WO_Data_Masterlist[],15,FALSE)="N/A",1,VLOOKUP(Table210[[#This Row],[Task Code]],WO_Data_Masterlist[],15,FALSE)) -> #N/A | I25: =IFERROR(VLOOKUP(Table210[[#This Row],[Task Code]],WO_Data_Masterlist[],9,FALSE)*Table210[[#This Row],[Frequency Data]]*Table210[[#This Row],[Quantity2]]," ") | J25: =IFERROR(VLOOKUP(Table210[[#This Row],[Task Code]],WO_Data_Masterlist[],10,FALSE)*Table210[[#This Row],[Frequency Data]]*Table210[[#This Row],[Quantity2]]," ") | K25: =IFERROR(VLOOKUP(Table210[[#This Row],[Task Code]],WO_Data_Masterlist[],11,FALSE)," ") | L25: =IFERROR(VLOOKUP(Table210[[#This Row],[Task Code]],WO_Data_Masterlist[],12,FALSE)," ") | M25: =IFERROR(VLOOKUP(Table210[[#This Row],[Task Code]],WO_Data_Masterlist[],13,FALSE)," ") | N25: =IFERROR(VLOOKUP(Table210[[#This Row],[Task Code]],WO_Data_Masterlist[],17,FALSE)," ") | O25: =IFERROR(((Table210[[#This Row],[Operator]]*$O$3)+(Table210[[#This Row],[Truck]]*$O$4)+(((Table210[[#This Row],[Contractor]]+Table210[[#This Row],[Equipment]]+Table210[[#This Row],[Parts & Materials]])*Table210[[#This Row],[Quantity2]])*Table210[[#This Row],[Frequency Data]]))+Table210[[#This Row],[Annual Energy Cost]]," ")
C26: =IFERROR(VLOOKUP(Table210[[#This Row],[Task Code]],WO_Data_Masterlist[],2,FALSE)," ") | D26: =IFERROR(VLOOKUP(Table210[[#This Row],[Task Code]],WO_Data_Masterlist[],4,FALSE)," ") | E26: =IFERROR(VLOOKUP(Table210[[#This Row],[Task Code]],WO_Data_Masterlist[],5,FALSE)," ") | F26: =IFERROR(VLOOKUP(Table210[[#This Row],[Task Code]],WO_Data_Masterlist[],6,FALSE)," ") | G26: =VLOOKUP(Table210[[#This Row],[Task Code]],WO_Data_Masterlist[],7,FALSE) -> #N/A | H26: =IF(VLOOKUP(Table210[[#This Row],[Task Code]],WO_Data_Masterlist[],15,FALSE)="N/A",1,VLOOKUP(Table210[[#This Row],[Task Code]],WO_Data_Masterlist[],15,FALSE)) -> #N/A | I26: =IFERROR(VLOOKUP(Table210[[#This Row],[Task Code]],WO_Data_Masterlist[],9,FALSE)*Table210[[#This Row],[Frequency Data]]*Table210[[#This Row],[Quantity2]]," ") | J26: =IFERROR(VLOOKUP(Table210[[#This Row],[Task Code]],WO_Data_Masterlist[],10,FALSE)*Table210[[#This Row],[Frequency Data]]*Table210[[#This Row],[Quantity2]]," ") | K26: =IFERROR(VLOOKUP(Table210[[#This Row],[Task Code]],WO_Data_Masterlist[],11,FALSE)," ") | L26: =IFERROR(VLOOKUP(Table210[[#This Row],[Task Code]],WO_Data_Masterlist[],12,FALSE)," ") | M26: =IFERROR(VLOOKUP(Table210[[#This Row],[Task Code]],WO_Data_Masterlist[],13,FALSE)," ") | N26: =IFERROR(VLOOKUP(Table210[[#This Row],[Task Code]],WO_Data_Masterlist[],17,FALSE)," ") | O26: =IFERROR(((Table210[[#This Row],[Operator]]*$O$3)+(Table210[[#This Row],[Truck]]*$O$4)+(((Table210[[#This Row],[Contractor]]+Table210[[#This Row],[Equipment]]+Table210[[#This Row],[Parts & Materials]])*Table210[[#This Row],[Quantity2]])*Table210[[#This Row],[Frequency Data]]))+Table210[[#This Row],[Annual Energy Cost]]," ")
C27: =IFERROR(VLOOKUP(Table210[[#This Row],[Task Code]],WO_Data_Masterlist[],2,FALSE)," ") | D27: =IFERROR(VLOOKUP(Table210[[#This Row],[Task Code]],WO_Data_Masterlist[],4,FALSE)," ") | E27: =IFERROR(VLOOKUP(Table210[[#This Row],[Task Code]],WO_Data_Masterlist[],5,FALSE)," ") | F27: =IFERROR(VLOOKUP(Table210[[#This Row],[Task Code]],WO_Data_Masterlist[],6,FALSE)," ") | G27: =VLOOKUP(Table210[[#This Row],[Task Code]],WO_Data_Masterlist[],7,FALSE) -> #N/A | H27: =IF(VLOOKUP(Table210[[#This Row],[Task Code]],WO_Data_Masterlist[],15,FALSE)="N/A",1,VLOOKUP(Table210[[#This Row],[Task Code]],WO_Data_Masterlist[],15,FALSE)) -> #N/A | I27: =IFERROR(VLOOKUP(Table210[[#This Row],[Task Code]],WO_Data_Masterlist[],9,FALSE)*Table210[[#This Row],[Frequency Data]]*Table210[[#This Row],[Quantity2]]," ") | J27: =IFERROR(VLOOKUP(Table210[[#This Row],[Task Code]],WO_Data_Masterlist[],10,FALSE)*Table210[[#This Row],[Frequency Data]]*Table210[[#This Row],[Quantity2]]," ") | K27: =IFERROR(VLOOKUP(Table210[[#This Row],[Task Code]],WO_Data_Masterlist[],11,FALSE)," ") | L27: =IFERROR(VLOOKUP(Table210[[#This Row],[Task Code]],WO_Data_Masterlist[],12,FALSE)," ") | M27: =IFERROR(VLOOKUP(Table210[[#This Row],[Task Code]],WO_Data_Masterlist[],13,FALSE)," ") | N27: =IFERROR(VLOOKUP(Table210[[#This Row],[Task Code]],WO_Data_Masterlist[],17,FALSE)," ") | O27: =IFERROR(((Table210[[#This Row],[Operator]]*$O$3)+(Table210[[#This Row],[Truck]]*$O$4)+(((Table210[[#This Row],[Contractor]]+Table210[[#This Row],[Equipment]]+Table210[[#This Row],[Parts & Materials]])*Table210[[#This Row],[Quantity2]])*Table210[[#This Row],[Frequency Data]]))+Table210[[#This Row],[Annual Energy Cost]]," ")
C28: =IFERROR(VLOOKUP(Table210[[#This Row],[Task Code]],WO_Data_Masterlist[],2,FALSE)," ") | D28: =IFERROR(VLOOKUP(Table210[[#This Row],[Task Code]],WO_Data_Masterlist[],4,FALSE)," ") | E28: =IFERROR(VLOOKUP(Table210[[#This Row],[Task Code]],WO_Data_Masterlist[],5,FALSE)," ") | F28: =IFERROR(VLOOKUP(Table210[[#This Row],[Task Code]],WO_Data_Masterlist[],6,FALSE)," ") | G28: =VLOOKUP(Table210[[#This Row],[Task Code]],WO_Data_Masterlist[],7,FALSE) -> #N/A | H28: =IF(VLOOKUP(Table210[[#This Row],[Task Code]],WO_Data_Masterlist[],15,FALSE)="N/A",1,VLOOKUP(Table210[[#This Row],[Task Code]],WO_Data_Masterlist[],15,FALSE)) -> #N/A | I28: =IFERROR(VLOOKUP(Table210[[#This Row],[Task Code]],WO_Data_Masterlist[],9,FALSE)*Table210[[#This Row],[Frequency Data]]*Table210[[#This Row],[Quantity2]]," ") | J28: =IFERROR(VLOOKUP(Table210[[#This Row],[Task Code]],WO_Data_Masterlist[],10,FALSE)*Table210[[#This Row],[Frequency Data]]*Table210[[#This Row],[Quantity2]]," ") | K28: =IFERROR(VLOOKUP(Table210[[#This Row],[Task Code]],WO_Data_Masterlist[],11,FALSE)," ") | L28: =IFERROR(VLOOKUP(Table210[[#This Row],[Task Code]],WO_Data_Masterlist[],12,FALSE)," ") | M28: =IFERROR(VLOOKUP(Table210[[#This Row],[Task Code]],WO_Data_Masterlist[],13,FALSE)," ") | N28: =IFERROR(VLOOKUP(Table210[[#This Row],[Task Code]],WO_Data_Masterlist[],17,FALSE)," ") | O28: =IFERROR(((Table210[[#This Row],[Operator]]*$O$3)+(Table210[[#This Row],[Truck]]*$O$4)+(((Table210[[#This Row],[Contractor]]+Table210[[#This Row],[Equipment]]+Table210[[#This Row],[Parts & Materials]])*Table210[[#This Row],[Quantity2]])*Table210[[#This Row],[Frequency Data]]))+Table210[[#This Row],[Annual Energy Cost]]," ")
C29: =IFERROR(VLOOKUP(Table210[[#This Row],[Task Code]],WO_Data_Masterlist[],2,FALSE)," ") | D29: =IFERROR(VLOOKUP(Table210[[#This Row],[Task Code]],WO_Data_Masterlist[],4,FALSE)," ") | E29: =IFERROR(VLOOKUP(Table210[[#This Row],[Task Code]],WO_Data_Masterlist[],5,FALSE)," ") | F29: =IFERROR(VLOOKUP(Table210[[#This Row],[Task Code]],WO_Data_Masterlist[],6,FALSE)," ") | G29: =VLOOKUP(Table210[[#This Row],[Task Code]],WO_Data_Masterlist[],7,FALSE) -> #N/A | H29: =IF(VLOOKUP(Table210[[#This Row],[Task Code]],WO_Data_Masterlist[],15,FALSE)="N/A",1,VLOOKUP(Table210[[#This Row],[Task Code]],WO_Data_Masterlist[],15,FALSE)) -> #N/A | I29: =IFERROR(VLOOKUP(Table210[[#This Row],[Task Code]],WO_Data_Masterlist[],9,FALSE)*Table210[[#This Row],[Frequency Data]]*Table210[[#This Row],[Quantity2]]," ") | J29: =IFERROR(VLOOKUP(Table210[[#This Row],[Task Code]],WO_Data_Masterlist[],10,FALSE)*Table210[[#This Row],[Frequency Data]]*Table210[[#This Row],[Quantity2]]," ") | K29: =IFERROR(VLOOKUP(Table210[[#This Row],[Task Code]],WO_Data_Masterlist[],11,FALSE)," ") | L29: =IFERROR(VLOOKUP(Table210[[#This Row],[Task Code]],WO_Data_Masterlist[],12,FALSE)," ") | M29: =IFERROR(VLOOKUP(Table210[[#This Row],[Task Code]],WO_Data_Masterlist[],13,FALSE)," ") | N29: =IFERROR(VLOOKUP(Table210[[#This Row],[Task Code]],WO_Data_Masterlist[],17,FALSE)," ") | O29: =IFERROR(((Table210[[#This Row],[Operator]]*$O$3)+(Table210[[#This Row],[Truck]]*$O$4)+(((Table210[[#This Row],[Contractor]]+Table210[[#This Row],[Equipment]]+Table210[[#This Row],[Parts & Materials]])*Table210[[#This Row],[Quantity2]])*Table210[[#This Row],[Frequency Data]]))+Table210[[#This Row],[Annual Energy Cost]]," ")
C30: =IFERROR(VLOOKUP(Table210[[#This Row],[Task Code]],WO_Data_Masterlist[],2,FALSE)," ") | D30: =IFERROR(VLOOKUP(Table210[[#This Row],[Task Code]],WO_Data_Masterlist[],4,FALSE)," ") | E30: =IFERROR(VLOOKUP(Table210[[#This Row],[Task Code]],WO_Data_Masterlist[],5,FALSE)," ") | F30: =IFERROR(VLOOKUP(Table210[[#This Row],[Task Code]],WO_Data_Masterlist[],6,FALSE)," ") | G30: =VLOOKUP(Table210[[#This Row],[Task Code]],WO_Data_Masterlist[],7,FALSE) -> #N/A | H30: =IF(VLOOKUP(Table210[[#This Row],[Task Code]],WO_Data_Masterlist[],15,FALSE)="N/A",1,VLOOKUP(Table210[[#This Row],[Task Code]],WO_Data_Masterlist[],15,FALSE)) -> #N/A | I30: =IFERROR(VLOOKUP(Table210[[#This Row],[Task Code]],WO_Data_Masterlist[],9,FALSE)*Table210[[#This Row],[Frequency Data]]*Table210[[#This Row],[Quantity2]]," ") | J30: =IFERROR(VLOOKUP(Table210[[#This Row],[Task Code]],WO_Data_Masterlist[],10,FALSE)*Table210[[#This Row],[Frequency Data]]*Table210[[#This Row],[Quantity2]]," ") | K30: =IFERROR(VLOOKUP(Table210[[#This Row],[Task Code]],WO_Data_Masterlist[],11,FALSE)," ") | L30: =IFERROR(VLOOKUP(Table210[[#This Row],[Task Code]],WO_Data_Masterlist[],12,FALSE)," ") | M30: =IFERROR(VLOOKUP(Table210[[#This Row],[Task Code]],WO_Data_Masterlist[],13,FALSE)," ") | N30: =IFERROR(VLOOKUP(Table210[[#This Row],[Task Code]],WO_Data_Masterlist[],17,FALSE)," ") | O30: =IFERROR(((Table210[[#This Row],[Operator]]*$O$3)+(Table210[[#This Row],[Truck]]*$O$4)+(((Table210[[#This Row],[Contractor]]+Table210[[#This Row],[Equipment]]+Table210[[#This Row],[Parts & Materials]])*Table210[[#This Row],[Quantity2]])*Table210[[#This Row],[Frequency Data]]))+Table210[[#This Row],[Annual Energy Cost]]," ")
... C61: =IFERROR(VLOOKUP(Table210[[#This Row],[Task Code]],WO_Data_Masterlist[],2,FALSE)," ") | D61: =IFERROR(VLOOKUP(Table210[[#This Row],[Task Code]],WO_Data_Masterlist[],4,FALSE)," ") | E61: =IFERROR(VLOOKUP(Table210[[#This Row],[Task Code]],WO_Data_Masterlist[],5,FALSE)," ") | F61: =IFERROR(VLOOKUP(Table210[[#This Row],[Task Code]],WO_Data_Masterlist[],6,FALSE)," ") | G61: =VLOOKUP(Table210[[#This Row],[Task Code]],WO_Data_Masterlist[],7,FALSE) -> #N/A | H61: =IF(VLOOKUP(Table210[[#This Row],[Task Code]],WO_Data_Masterlist[],15,FALSE)="N/A",1,VLOOKUP(Table210[[#This Row],[Task Code]],WO_Data_Masterlist[],15,FALSE)) -> #N/A | I61: =IFERROR(VLOOKUP(Table210[[#This Row],[Task Code]],WO_Data_Masterlist[],9,FALSE)*Table210[[#This Row],[Frequency Data]]*Table210[[#This Row],[Quantity2]]," ") | J61: =IFERROR(VLOOKUP(Table210[[#This Row],[Task Code]],WO_Data_Masterlist[],10,FALSE)*Table210[[#This Row],[Frequency Data]]*Table210[[#This Row],[Quantity2]]," ") | K61: =IFERROR(VLOOKUP(Table210[[#This Row],[Task Code]],WO_Data_Masterlist[],11,FALSE)," ") | L61: =IFERROR(VLOOKUP(Table210[[#This Row],[Task Code]],WO_Data_Masterlist[],12,FALSE)," ") | M61: =IFERROR(VLOOKUP(Table210[[#This Row],[Task Code]],WO_Data_Masterlist[],13,FALSE)," ") | N61: =IFERROR(VLOOKUP(Table210[[#This Row],[Task Code]],WO_Data_Masterlist[],17,FALSE)," ") | O61: =IFERROR(((Table210[[#This Row],[Operator]]*$O$3)+(Table210[[#This Row],[Truck]]*$O$4)+(((Table210[[#This Row],[Contractor]]+Table210[[#This Row],[Equipment]]+Table210[[#This Row],[Parts & Materials]])*Table210[[#This Row],[Quantity2]])*Table210[[#This Row],[Frequency Data]]))+Table210[[#This Row],[Annual Energy Cost]]," ")

Sheet i. WO Data Masterlist
D2: Return to Table of Contents
L3: WAGES
L4: Operator | M4: ='TABLE OF CONTENTS'!K15 -> 31
L5: Truck | M5: ='TABLE OF CONTENTS'!K16 -> 16.466621
A13: INFRASTRUCTURE ASSETS
A14: WORK ORDER DATA MASTERLIST
A16: 1 | B16: 2 | C16: 3 | D16: 4 | E16: 5 | F16: 6 | G16: 7 | H16: 8 | I16: 9 | J16: 10 | K16: 11 | L16: 12 | M16: 13 | N16: 14 | O16: 15 | P16: 16 | Q16: 17
A17: WORK ORDER | B17: ASSET GROUP | C17: ASSET SUBGROUP | D17: ASSET COMPONENT | E17: TASK DESCRIPTION | F17: FREQUENCY | G17: FREQUENCY (TIMES PER YEAR) | H17: CONTRACTOR COST / UNIT | I17: OPERATOR HOURS per TASK | J17: TRUCK HOURS | K17: CONTRACTOR COST | L17: EQUIPMENT | M17: PARTS AND MATERIALS | N17: QUANTITY LINEAR INFRASTRUCTURE | O17: QUANTITY NON-LINEAR INFRASTRUCTURE | P17: ANNUAL ENERGY PER UNIT | Q17: TOTAL ANNUAL ENERGY COSTS | R17: WO Required? | S17: ANNUAL COST PER UNIT
A18: W01 | B18: WATER | C18: Distribution | D18: Main | E18: Distribution System Inspection | F18: Monthly | G18: 11 | H18: N/A | I18: ='ii. WO Linear Infr. Mnt Hours'!G44 -> 54 | J18: =WO_Data_Masterlist[[#This Row],[OPERATOR HOURS per TASK]] -> 54 | K18: 0 | L18: ='ii. WO Linear Infr. Mnt Hours'!L44 -> 50 | M18: ='ii. WO Linear Infr. Mnt Hours'!M44 -> 50 | N18: =SUM(Watermain_Inventory[LENGTH (m)])/1000 -> 10 | O18: =IFERROR(GETPIVOTDATA("ASSET GROUP",'TABLE OF CONTENTS'!$P$20,"ASSET COMPONENT",WO_Data_Masterlist[[#This Row],[ASSET COMPONENT]]), "N/A") -> N/A | P18: 0 | Q18: =IFERROR(WO_Data_Masterlist[[#This Row],[ANNUAL ENERGY PER UNIT]]*WO_Data_Masterlist[[#This Row],[QUANTITY NON-LINEAR INFRASTRUCTURE]], 0) -> 0 | R18: =IF(SUM(WO_Data_Masterlist[[#This Row],[QUANTITY LINEAR INFRASTRUCTURE]:[QUANTITY NON-LINEAR INFRASTRUCTURE]])>0, "YES", "NO") -> YES | S18: =IFERROR(IF(WO_Data_Masterlist[[#This Row],[QUANTITY LINEAR INFRASTRUCTURE]]="N/A", ((((WO_Data_Masterlist[[#This Row],[OPERATOR HOURS per TASK]]*$M$4)+(WO_Data_Masterlist[[#This Row],[TRUCK HOURS]]*$M$5))+WO_Data_Masterlist[[#This Row],[CONTRACTOR COST]]+WO_Data_Masterlist[[#This Row],[EQUIPMENT]]+WO_Data_Masterlist[[#This Row],[PARTS AND MATERIALS]])*WO_Data_Masterlist[[#This Row],[FREQUENCY (TIMES PER YEAR)]])+WO_Data_Masterlist[[#This Row],[ANNUAL ENERGY PER UNIT]], (((((WO_Data_Masterlist[[#This Row],[OPERATOR HOURS per TASK]]*$M$4)+(WO_Data_Masterlist[[#This Row],[TRUCK HOURS]]*$M$5))+WO_Data_Masterlist[[#This Row],[CONTRACTOR COST]]+WO_Data_Masterlist[[#This Row],[EQUIPMENT]]+WO_Data_Masterlist[[#This Row],[PARTS AND MATERIALS]])*WO_Data_Masterlist[[#This Row],[FREQUENCY (TIMES PER YEAR)]])+WO_Data_Masterlist[[#This Row],[ANNUAL ENERGY PER UNIT]])/WO_Data_Masterlist[[#This Row],[QUANTITY LINEAR INFRASTRUCTURE]]), 0) -> 2929.5173
A19: W02 | B19: WATER | C19: Distribution | D19: Main | E19: Annual Valve Inspection and Maintenance | F19: Annual | G19: 1 | H19: N/A | I19: ='ii. WO Linear Infr. Mnt Hours'!G51 -> 49 | J19: =WO_Data_Masterlist[[#This Row],[OPERATOR HOURS per TASK]] -> 49 | K19: 0 | L19: ='ii. WO Linear Infr. Mnt Hours'!L51 -> 50 | M19: ='ii. WO Linear Infr. Mnt Hours'!M51 -> 150 | N19: ='ii. WO Linear Infr. Mnt Hours'!M14 -> 120 | O19: =IFERROR(GETPIVOTDATA("ASSET GROUP",'TABLE OF CONTENTS'!$P$20,"ASSET COMPONENT",WO_Data_Masterlist[[#This Row],[ASSET COMPONENT]]), "N/A") -> N/A | P19: 0 | Q19: =IFERROR(WO_Data_Masterlist[[#This Row],[ANNUAL ENERGY PER UNIT]]*WO_Data_Masterlist[[#This Row],[QUANTITY NON-LINEAR INFRASTRUCTURE]], 0) -> 0 | R19: =IF(SUM(WO_Data_Masterlist[[#This Row],[QUANTITY LINEAR INFRASTRUCTURE]:[QUANTITY NON-LINEAR INFRASTRUCTURE]])>0, "YES", "NO") -> YES | S19: =IFERROR(IF(WO_Data_Masterlist[[#This Row],[QUANTITY LINEAR INFRASTRUCTURE]]="N/A", ((((WO_Data_Masterlist[[#This Row],[OPERATOR HOURS per TASK]]*$M$4)+(WO_Data_Masterlist[[#This Row],[TRUCK HOURS]]*$M$5))+WO_Data_Masterlist[[#This Row],[CONTRACTOR COST]]+WO_Data_Masterlist[[#This Row],[EQUIPMENT]]+WO_Data_Masterlist[[#This Row],[PARTS AND MATERIALS]])*WO_Data_Masterlist[[#This Row],[FREQUENCY (TIMES PER YEAR)]])+WO_Data_Masterlist[[#This Row],[ANNUAL ENERGY PER UNIT]], (((((WO_Data_Masterlist[[#This Row],[OPERATOR HOURS per TASK]]*$M$4)+(WO_Data_Masterlist[[#This Row],[TRUCK HOURS]]*$M$5))+WO_Data_Masterlist[[#This Row],[CONTRACTOR COST]]+WO_Data_Masterlist[[#This Row],[EQUIPMENT]]+WO_Data_Masterlist[[#This Row],[PARTS AND MATERIALS]])*WO_Data_Masterlist[[#This Row],[FREQUENCY (TIMES PER YEAR)]])+WO_Data_Masterlist[[#This Row],[ANNUAL ENERGY PER UNIT]])/WO_Data_Masterlist[[#This Row],[QUANTITY LINEAR INFRASTRUCTURE]]), 0) -> 21.04887
A20: W03 | B20: WATER | C20: Distribution | D20: Main | E20: Watermain Flushing | F20: Annual | G20: 1 | H20: N/A | I20: ='ii. WO Linear Infr. Mnt Hours'!G58 -> 101 | J20: =WO_Data_Masterlist[[#This Row],[OPERATOR HOURS per TASK]] -> 101 | K20: 0 | L20: ='ii. WO Linear Infr. Mnt Hours'!L58 -> 100 | M20: ='ii. WO Linear Infr. Mnt Hours'!M58 -> 50 | N20: =SUM(Watermain_Inventory[LENGTH (m)])/1000 -> 10 | O20: =IFERROR(GETPIVOTDATA("ASSET GROUP",'TABLE OF CONTENTS'!$P$20,"ASSET COMPONENT",WO_Data_Masterlist[[#This Row],[ASSET COMPONENT]]), "N/A") -> N/A | P20: 0 | Q20: =IFERROR(WO_Data_Masterlist[[#This Row],[ANNUAL ENERGY PER UNIT]]*WO_Data_Masterlist[[#This Row],[QUANTITY NON-LINEAR INFRASTRUCTURE]], 0) -> 0 | R20: =IF(SUM(WO_Data_Masterlist[[#This Row],[QUANTITY LINEAR INFRASTRUCTURE]:[QUANTITY NON-LINEAR INFRASTRUCTURE]])>0, "YES", "NO") -> YES | S20: =IFERROR(IF(WO_Data_Masterlist[[#This Row],[QUANTITY LINEAR INFRASTRUCTURE]]="N/A", ((((WO_Data_Masterlist[[#This Row],[OPERATOR HOURS per TASK]]*$M$4)+(WO_Data_Masterlist[[#This Row],[TRUCK HOURS]]*$M$5))+WO_Data_Masterlist[[#This Row],[CONTRACTOR COST]]+WO_Data_Masterlist[[#This Row],[EQUIPMENT]]+WO_Data_Masterlist[[#This Row],[PARTS AND MATERIALS]])*WO_Data_Masterlist[[#This Row],[FREQUENCY (TIMES PER YEAR)]])+WO_Data_Masterlist[[#This Row],[ANNUAL ENERGY PER UNIT]], (((((WO_Data_Masterlist[[#This Row],[OPERATOR HOURS per TASK]]*$M$4)+(WO_Data_Masterlist[[#This Row],[TRUCK HOURS]]*$M$5))+WO_Data_Masterlist[[#This Row],[CONTRACTOR COST]]+WO_Data_Masterlist[[#This Row],[EQUIPMENT]]+WO_Data_Masterlist[[#This Row],[PARTS AND MATERIALS]])*WO_Data_Masterlist[[#This Row],[FREQUENCY (TIMES PER YEAR)]])+WO_Data_Masterlist[[#This Row],[ANNUAL ENERGY PER UNIT]])/WO_Data_Masterlist[[#This Row],[QUANTITY LINEAR INFRASTRUCTURE]]), 0) -> 494.41287
A21: W04 | B21: WATER | C21: Distribution | D21: Main | E21: Hydrant Inspection, Maintenance, and Flushing | F21: Annual | G21: 1 | H21: N/A | I21: ='ii. WO Linear Infr. Mnt Hours'!G66 -> 35 | J21: =WO_Data_Masterlist[[#This Row],[OPERATOR HOURS per TASK]] -> 35 | K21: 0 | L21: ='ii. WO Linear Infr. Mnt Hours'!L58 -> 100 | M21: ='ii. WO Linear Infr. Mnt Hours'!M58 -> 50 | N21: ='ii. WO Linear Infr. Mnt Hours'!M13 -> 50 | O21: =IFERROR(GETPIVOTDATA("ASSET GROUP",'TABLE OF CONTENTS'!$P$20,"ASSET COMPONENT",WO_Data_Masterlist[[#This Row],[ASSET COMPONENT]]), "N/A") -> N/A | P21: 0 | Q21: =IFERROR(WO_Data_Masterlist[[#This Row],[ANNUAL ENERGY PER UNIT]]*WO_Data_Masterlist[[#This Row],[QUANTITY NON-LINEAR INFRASTRUCTURE]], 0) -> 0 | R21: =IF(SUM(WO_Data_Masterlist[[#This Row],[QUANTITY LINEAR INFRASTRUCTURE]:[QUANTITY NON-LINEAR INFRASTRUCTURE]])>0, "YES", "NO") -> YES | S21: =IFERROR(IF(WO_Data_Masterlist[[#This Row],[QUANTITY LINEAR INFRASTRUCTURE]]="N/A", ((((WO_Data_Masterlist[[#This Row],[OPERATOR HOURS per TASK]]*$M$4)+(WO_Data_Masterlist[[#This Row],[TRUCK HOURS]]*$M$5))+WO_Data_Masterlist[[#This Row],[CONTRACTOR COST]]+WO_Data_Masterlist[[#This Row],[EQUIPMENT]]+WO_Data_Masterlist[[#This Row],[PARTS AND MATERIALS]])*WO_Data_Masterlist[[#This Row],[FREQUENCY (TIMES PER YEAR)]])+WO_Data_Masterlist[[#This Row],[ANNUAL ENERGY PER UNIT]], (((((WO_Data_Masterlist[[#This Row],[OPERATOR HOURS per TASK]]*$M$4)+(WO_Data_Masterlist[[#This Row],[TRUCK HOURS]]*$M$5))+WO_Data_Masterlist[[#This Row],[CONTRACTOR COST]]+WO_Data_Masterlist[[#This Row],[EQUIPMENT]]+WO_Data_Masterlist[[#This Row],[PARTS AND MATERIALS]])*WO_Data_Masterlist[[#This Row],[FREQUENCY (TIMES PER YEAR)]])+WO_Data_Masterlist[[#This Row],[ANNUAL ENERGY PER UNIT]])/WO_Data_Masterlist[[#This Row],[QUANTITY LINEAR INFRASTRUCTURE]]), 0) -> 36.226634
